BEGIN:VCALENDAR
VERSION:2.0
PRODID:-//Fusion Racing - ECPv6.15.20//NONSGML v1.0//EN
CALSCALE:GREGORIAN
METHOD:PUBLISH
X-ORIGINAL-URL:https://fusionracetiming.com
X-WR-CALDESC:Events for Fusion Racing
REFRESH-INTERVAL;VALUE=DURATION:PT1H
X-Robots-Tag:noindex
X-PUBLISHED-TTL:PT1H
BEGIN:VTIMEZONE
TZID:America/New_York
BEGIN:DAYLIGHT
TZOFFSETFROM:-0500
TZOFFSETTO:-0400
TZNAME:EDT
DTSTART:20250309T070000
END:DAYLIGHT
BEGIN:STANDARD
TZOFFSETFROM:-0400
TZOFFSETTO:-0500
TZNAME:EST
DTSTART:20251102T060000
END:STANDARD
BEGIN:DAYLIGHT
TZOFFSETFROM:-0500
TZOFFSETTO:-0400
TZNAME:EDT
DTSTART:20260308T070000
END:DAYLIGHT
BEGIN:STANDARD
TZOFFSETFROM:-0400
TZOFFSETTO:-0500
TZNAME:EST
DTSTART:20261101T060000
END:STANDARD
BEGIN:DAYLIGHT
TZOFFSETFROM:-0500
TZOFFSETTO:-0400
TZNAME:EDT
DTSTART:20270314T070000
END:DAYLIGHT
BEGIN:STANDARD
TZOFFSETFROM:-0400
TZOFFSETTO:-0500
TZNAME:EST
DTSTART:20271107T060000
END:STANDARD
END:VTIMEZONE
BEGIN:VEVENT
DTSTART;TZID=America/New_York:20260531T090000
DTEND;TZID=America/New_York:20260531T090000
DTSTAMP:20260423T083222
CREATED:20251110T175947Z
LAST-MODIFIED:20260102T193701Z
UID:10000109-1780218000-1780218000@fusionracetiming.com
SUMMARY:The Compassion 5K: Presented by Griswold Home Care
DESCRIPTION:
URL:https://fusionracetiming.com/event/the-compassion-5k-presented-by-griswold-save-the-date/
LOCATION:Rockford Park\, Lookout Dr\, Wilmington\, DE\, 19806
ATTACH;FMTTYPE=image/jpeg:https://fusionracetiming.com/wp-content/uploads/2025/11/THE-COMPASSION-5K-e1762797568981.jpg
END:VEVENT
BEGIN:VEVENT
DTSTART;TZID=America/New_York:20260912T090000
DTEND;TZID=America/New_York:20260912T090000
DTSTAMP:20260423T083222
CREATED:20250414T174943Z
LAST-MODIFIED:20260227T180753Z
UID:10000058-1789203600-1789203600@fusionracetiming.com
SUMMARY:Live Like Lukas 5K
DESCRIPTION:
URL:https://fusionracetiming.com/event/live-like-lukas-5k/
LOCATION:Rockford Park\, Lookout Dr\, Wilmington\, DE\, 19806
ATTACH;FMTTYPE=image/jpeg:https://fusionracetiming.com/wp-content/uploads/2025/04/LiveLikeLukas-1-e1744850784180.jpg
END:VEVENT
BEGIN:VEVENT
DTSTART;TZID=America/New_York:20260917T180000
DTEND;TZID=America/New_York:20260917T180000
DTSTAMP:20260423T083222
CREATED:20250414T175227Z
LAST-MODIFIED:20260117T130735Z
UID:10000061-1789668000-1789668000@fusionracetiming.com
SUMMARY:Hometown Heroes 5K (SAVE THE DATE)
DESCRIPTION:
URL:https://fusionracetiming.com/event/hometown-heroes-5k-2025/
LOCATION:Rockford Park\, Lookout Dr\, Wilmington\, DE\, 19806
ATTACH;FMTTYPE=image/jpeg:https://fusionracetiming.com/wp-content/uploads/2025/04/DTCC.HometownHeros.5K-e1744653119526.jpg
END:VEVENT
BEGIN:VEVENT
DTSTART;TZID=America/New_York:20260926T100000
DTEND;TZID=America/New_York:20260926T100000
DTSTAMP:20260423T083222
CREATED:20250815T184641Z
LAST-MODIFIED:20260227T181007Z
UID:10000107-1790416800-1790416800@fusionracetiming.com
SUMMARY:Hope 4 Homelessness 5K (SAVE THE DATE)
DESCRIPTION:
URL:https://fusionracetiming.com/event/hope-4-homelessness-5k-2025/
LOCATION:Rockford Park\, Lookout Dr\, Wilmington\, DE\, 19806
ATTACH;FMTTYPE=image/png:https://fusionracetiming.com/wp-content/uploads/2025/08/Hope4_Homeless_logo-removebg-preview.png
END:VEVENT
END:VCALENDAR