BEGIN:VCALENDAR
VERSION:2.0
PRODID:-//Fusion Racing - ECPv6.15.20//NONSGML v1.0//EN
CALSCALE:GREGORIAN
METHOD:PUBLISH
X-WR-CALNAME:Fusion Racing
X-ORIGINAL-URL:https://fusionracetiming.com
X-WR-CALDESC:Events for Fusion Racing
REFRESH-INTERVAL;VALUE=DURATION:PT1H
X-Robots-Tag:noindex
X-PUBLISHED-TTL:PT1H
BEGIN:VTIMEZONE
TZID:America/New_York
BEGIN:DAYLIGHT
TZOFFSETFROM:-0500
TZOFFSETTO:-0400
TZNAME:EDT
DTSTART:20250309T070000
END:DAYLIGHT
BEGIN:STANDARD
TZOFFSETFROM:-0400
TZOFFSETTO:-0500
TZNAME:EST
DTSTART:20251102T060000
END:STANDARD
BEGIN:DAYLIGHT
TZOFFSETFROM:-0500
TZOFFSETTO:-0400
TZNAME:EDT
DTSTART:20260308T070000
END:DAYLIGHT
BEGIN:STANDARD
TZOFFSETFROM:-0400
TZOFFSETTO:-0500
TZNAME:EST
DTSTART:20261101T060000
END:STANDARD
BEGIN:DAYLIGHT
TZOFFSETFROM:-0500
TZOFFSETTO:-0400
TZNAME:EDT
DTSTART:20270314T070000
END:DAYLIGHT
BEGIN:STANDARD
TZOFFSETFROM:-0400
TZOFFSETTO:-0500
TZNAME:EST
DTSTART:20271107T060000
END:STANDARD
END:VTIMEZONE
BEGIN:VEVENT
DTSTART;TZID=America/New_York:20261017T090000
DTEND;TZID=America/New_York:20261017T090000
DTSTAMP:20260423T191309
CREATED:20250414T182858Z
LAST-MODIFIED:20260227T181528Z
UID:10000076-1792227600-1792227600@fusionracetiming.com
SUMMARY:Little Sisters of the Poor Nun Run 5K
DESCRIPTION:
URL:https://fusionracetiming.com/event/nun-run-5k/
LOCATION:Little Sisters of the Poor\, 185 Salem Church Rd\, Newark\, Delaware\, 19713
ATTACH;FMTTYPE=image/png:https://fusionracetiming.com/wp-content/uploads/2025/04/Untitled_design_-_2025-09-17T070556.617-removebg-preview.png
END:VEVENT
END:VCALENDAR