BEGIN:VCALENDAR
VERSION:2.0
PRODID:-//Fusion Racing - ECPv6.15.20//NONSGML v1.0//EN
CALSCALE:GREGORIAN
METHOD:PUBLISH
X-WR-CALNAME:Fusion Racing
X-ORIGINAL-URL:https://fusionracetiming.com
X-WR-CALDESC:Events for Fusion Racing
REFRESH-INTERVAL;VALUE=DURATION:PT1H
X-Robots-Tag:noindex
X-PUBLISHED-TTL:PT1H
BEGIN:VTIMEZONE
TZID:America/New_York
BEGIN:DAYLIGHT
TZOFFSETFROM:-0500
TZOFFSETTO:-0400
TZNAME:EDT
DTSTART:20250309T070000
END:DAYLIGHT
BEGIN:STANDARD
TZOFFSETFROM:-0400
TZOFFSETTO:-0500
TZNAME:EST
DTSTART:20251102T060000
END:STANDARD
BEGIN:DAYLIGHT
TZOFFSETFROM:-0500
TZOFFSETTO:-0400
TZNAME:EDT
DTSTART:20260308T070000
END:DAYLIGHT
BEGIN:STANDARD
TZOFFSETFROM:-0400
TZOFFSETTO:-0500
TZNAME:EST
DTSTART:20261101T060000
END:STANDARD
BEGIN:DAYLIGHT
TZOFFSETFROM:-0500
TZOFFSETTO:-0400
TZNAME:EDT
DTSTART:20270314T070000
END:DAYLIGHT
BEGIN:STANDARD
TZOFFSETFROM:-0400
TZOFFSETTO:-0500
TZNAME:EST
DTSTART:20271107T060000
END:STANDARD
END:VTIMEZONE
BEGIN:VEVENT
DTSTART;TZID=America/New_York:20260503T090000
DTEND;TZID=America/New_York:20260503T090000
DTSTAMP:20260423T114737
CREATED:20250212T164427Z
LAST-MODIFIED:20260403T003647Z
UID:10000006-1777798800-1777798800@fusionracetiming.com
SUMMARY:Brandywine Red Run 5K
DESCRIPTION:Description\nCome out and support the Brandywine Valley Hemophilia Foundation (BVHF) by participating in the 2025 Brandywine Red Run (BRR) 5k! RUNNERS & WALKERS WELCOME!\nBVHF is a volunteer organization that has been dedicated to serving the bleeding disorder community since 1972. Since that time the foundation has raised more than $1 million in support of its mission to fund medical research\, educational programs\, summer camps\, and patient support. Our goal is to enhance the quality of life and care of all members of our bleeding disorder community\, through our services\, events and programs that advocate\, educate and provided support.\nOur success throughout the years has come through the financial support of sponsors\, donors and fund-raising events like this 5K.\nFor more information about the Foundation please visit: https://brandywinehemophilia.org/ \nStudent Pricing\nStudent pricing for ages 18 and younger only $25. \nDay of Events\n8:00am – 8:55am Glasgow Park \nBib & Shirt Pick Up\nPre-registration Announcements and Sponsor Thanks \n9:00am 5k Race Begins\n10:15am Awards & Teams Gift Card Raffle \nAwards and Age Groups\nOverall Male/Female\nOverall Masters Male/Female\nTop 3 in each age group Male/Female\n13 and under\, 14-19\, 20-29\, 30-39\, 40-49\, 50-59\, 60-69\, and 70+\n*Overall and Masters – based off GUN TIME\n*Age Groups – based off CHIP TIME \nRunners Amenities\n– Race Long Sleeve T-Shirt (Guaranteed with registrations by March 3rd)\n– Pre & Post Race Snacks/Breakfast\n– Sponsor Event Table Activities & Giveaways \nCalling All Teams!\nWe would love to see more teams this year!\nAll team leaders\, with teams of at least three registered runners/walkers\, will be entered into a raffle for chances to win gift cards the day of the event. The team with the most registered participants will also automatically receive a gift card. \nTop Fundraising Team – $2\,000 Grant Awarded\nTop fundraising team receives a $2\,000 Grant to attend their choice of one of the following:\n*Hemophilia Federation of America Symposium in San Diego\, California on March 27-30\, 2025\n*National Bleeding Disorders Conference in Denver\, Colorado on August 21-23\, 2025 \nCourse Map\nClick HERE for Course Map\n*Map is for directional purposes only. \nFAQ & Policies
URL:https://fusionracetiming.com/event/brandywine-red-run-5k/
LOCATION:Bellevue State Park\, 800 Carr Road\, Wilmington\, Delaware\, 19809
ATTACH;FMTTYPE=image/png:https://fusionracetiming.com/wp-content/uploads/2025/02/genericImage-websiteLogo-110488-1732019379.5138-0.bNpisZ.png
END:VEVENT
BEGIN:VEVENT
DTSTART;TZID=America/New_York:20260927T090000
DTEND;TZID=America/New_York:20260927T090000
DTSTAMP:20260423T114737
CREATED:20250414T180023Z
LAST-MODIFIED:20260117T130941Z
UID:10000066-1790499600-1790499600@fusionracetiming.com
SUMMARY:Faithful Friends Animal Society 5K & Mutt Mile (SAVE THE DATE)
DESCRIPTION:
URL:https://fusionracetiming.com/event/faithful-friends-animal-society-5k-mutt-mile/
LOCATION:Bellevue State Park\, 800 Carr Road\, Wilmington\, Delaware\, 19809
ATTACH;FMTTYPE=image/png:https://fusionracetiming.com/wp-content/uploads/2025/04/FFAS.5K_2024.png
END:VEVENT
END:VCALENDAR