BEGIN:VCALENDAR
VERSION:2.0
PRODID:-//Fusion Racing - ECPv6.15.20//NONSGML v1.0//EN
CALSCALE:GREGORIAN
METHOD:PUBLISH
X-ORIGINAL-URL:https://fusionracetiming.com
X-WR-CALDESC:Events for Fusion Racing
REFRESH-INTERVAL;VALUE=DURATION:PT1H
X-Robots-Tag:noindex
X-PUBLISHED-TTL:PT1H
BEGIN:VTIMEZONE
TZID:America/New_York
BEGIN:DAYLIGHT
TZOFFSETFROM:-0500
TZOFFSETTO:-0400
TZNAME:EDT
DTSTART:20240310T070000
END:DAYLIGHT
BEGIN:STANDARD
TZOFFSETFROM:-0400
TZOFFSETTO:-0500
TZNAME:EST
DTSTART:20241103T060000
END:STANDARD
BEGIN:DAYLIGHT
TZOFFSETFROM:-0500
TZOFFSETTO:-0400
TZNAME:EDT
DTSTART:20250309T070000
END:DAYLIGHT
BEGIN:STANDARD
TZOFFSETFROM:-0400
TZOFFSETTO:-0500
TZNAME:EST
DTSTART:20251102T060000
END:STANDARD
BEGIN:DAYLIGHT
TZOFFSETFROM:-0500
TZOFFSETTO:-0400
TZNAME:EDT
DTSTART:20260308T070000
END:DAYLIGHT
BEGIN:STANDARD
TZOFFSETFROM:-0400
TZOFFSETTO:-0500
TZNAME:EST
DTSTART:20261101T060000
END:STANDARD
BEGIN:DAYLIGHT
TZOFFSETFROM:-0500
TZOFFSETTO:-0400
TZNAME:EDT
DTSTART:20270314T070000
END:DAYLIGHT
BEGIN:STANDARD
TZOFFSETFROM:-0400
TZOFFSETTO:-0500
TZNAME:EST
DTSTART:20271107T060000
END:STANDARD
END:VTIMEZONE
BEGIN:VEVENT
DTSTART;TZID=America/New_York:20260215T100000
DTEND;TZID=America/New_York:20260215T100000
DTSTAMP:20260419T111713
CREATED:20251226T192245Z
LAST-MODIFIED:20260109T142959Z
UID:10000113-1771149600-1771149600@fusionracetiming.com
SUMMARY:Run 4 Love
DESCRIPTION:
URL:https://fusionracetiming.com/event/run-4-love/
LOCATION:Autumn Arch Beer Project\, 810 Pencader Dr C\, Newark\, DE\, 19702
ATTACH;FMTTYPE=image/png:https://fusionracetiming.com/wp-content/uploads/2025/12/Run4Love_Logo2026.png
END:VEVENT
BEGIN:VEVENT
DTSTART;TZID=America/New_York:20251228T100000
DTEND;TZID=America/New_York:20251228T100000
DTSTAMP:20260419T111713
CREATED:20250804T160903Z
LAST-MODIFIED:20250804T160903Z
UID:10000104-1766916000-1766916000@fusionracetiming.com
SUMMARY:Autumn Arch Winter Warmer 5K
DESCRIPTION:
URL:https://fusionracetiming.com/event/autumn-arch-winter-warmer-5k/
LOCATION:Autumn Arch Beer Project\, 810 Pencader Dr C\, Newark\, DE\, 19702
ATTACH;FMTTYPE=image/png:https://fusionracetiming.com/wp-content/uploads/2025/08/race124608-logo-0.bK20I7.png
END:VEVENT
END:VCALENDAR